BEGIN:VCALENDAR
VERSION:2.0
PRODID:-//Potter League For Animals - ECPv6.15.20//NONSGML v1.0//EN
CALSCALE:GREGORIAN
METHOD:PUBLISH
X-WR-CALNAME:Potter League For Animals
X-ORIGINAL-URL:https://potterleague.org
X-WR-CALDESC:Events for Potter League For Animals
REFRESH-INTERVAL;VALUE=DURATION:PT1H
X-Robots-Tag:noindex
X-PUBLISHED-TTL:PT1H
BEGIN:VTIMEZONE
TZID:America/New_York
BEGIN:DAYLIGHT
TZOFFSETFROM:-0500
TZOFFSETTO:-0400
TZNAME:EDT
DTSTART:20230312T070000
END:DAYLIGHT
BEGIN:STANDARD
TZOFFSETFROM:-0400
TZOFFSETTO:-0500
TZNAME:EST
DTSTART:20231105T060000
END:STANDARD
BEGIN:DAYLIGHT
TZOFFSETFROM:-0500
TZOFFSETTO:-0400
TZNAME:EDT
DTSTART:20240310T070000
END:DAYLIGHT
BEGIN:STANDARD
TZOFFSETFROM:-0400
TZOFFSETTO:-0500
TZNAME:EST
DTSTART:20241103T060000
END:STANDARD
BEGIN:DAYLIGHT
TZOFFSETFROM:-0500
TZOFFSETTO:-0400
TZNAME:EDT
DTSTART:20250309T070000
END:DAYLIGHT
BEGIN:STANDARD
TZOFFSETFROM:-0400
TZOFFSETTO:-0500
TZNAME:EST
DTSTART:20251102T060000
END:STANDARD
END:VTIMEZONE
BEGIN:VEVENT
DTSTART;VALUE=DATE:20240502
DTEND;VALUE=DATE:20240531
DTSTAMP:20260423T133040
CREATED:20240417T230830Z
LAST-MODIFIED:20240424T153152Z
UID:220000536-1714608000-1717113599@potterleague.org
SUMMARY:Not Your Average Cause at Not Your Average Joe's
DESCRIPTION:You’re invited to join Not Your Average Joe’s in Warwick\, RI\, for a special fundraiser event benefiting the Potter League for Animals every Thursday during the month of May! \nDate: Every Thursday in May (2nd\, 9th\, 16th\, 23rd & 30th)\nLocation: Not Your Average Joe’s Warwick\, RI\nAddress: 400 Bald Hill Road\, Warwick\, RI 02886\nPhone: 401.739.5637 \nIndulge in a delightful meal at Not Your Average Joe’s while supporting a worthy cause. Here’s how you can participate: \n\nAll-day dining: Enjoy Lunch\, Dinner\, or Take-out at any time throughout the day on Thursdays.\n15% donation: Not Your Average Joe’s will donate 15% of all sales (excluding alcohol\, tax and gratuity) to the Potter League for Animals.\nTake-out included: Take advantage of this opportunity for a good cause\, whether you dine in or opt for take-out. (Note: excludes delivery and online take-out orders. For take-out\, please call the restaurant to place the order.)\nPresent the flyer: To ensure your contribution\, simply present the downloadable PDF flyer to your server.\n\nLet’s come together to make a difference for our furry friends! Join Not Your Average Joe’s in supporting the Potter League for Animals. See you there!
URL:https://potterleague.org/our-events/not-your-average-cause-at-not-your-average-joes/
LOCATION:Not Your Average Joe’s\, 400 Bald Hill Road\, Warwick\, RI\, 02886\, United States
CATEGORIES:Events
ATTACH;FMTTYPE=image/png:https://potterleague.org/wp-content/uploads/2024/04/NYAJs-charity-event-potter-league.png
END:VEVENT
BEGIN:VEVENT
DTSTART;TZID=America/New_York:20240507T170000
DTEND;TZID=America/New_York:20240507T180000
DTSTAMP:20260423T133040
CREATED:20240419T151547Z
LAST-MODIFIED:20240419T151547Z
UID:220000420-1715101200-1715104800@potterleague.org
SUMMARY:Kitten Yoga
DESCRIPTION:Date: Tuesday\, May 7\, 2024\nTime: 5:00 -6:00 PM\nLevel: All levels – gentle yoga for humans\nCost: $25\nWhere: @ the Potter League Animal Care & Adoption Center\n87 Oliphant Lane Middletown\, RI 02842 \nMeowmaste! For cat lovers and exercise enthusiasts\, yoga classes filled with feline friends sounds like the perfect match. Taught by our very own Kim Cipolla\, dog trainer\, and certified yoga instructor\, these classes are a “win-win” because kittens and yoga bring therapeutic benefits to many people\, and we hope these feline friends will find new homes. \nPlease bring your mat\, not your cat. We will provide the kitties. \nSpace is limited. Tickets are Non-Refundable. A maximum of two children ages 10+ per accompanying adult is preferred.
URL:https://potterleague.org/our-events/kitten-yoga-may2024/
LOCATION:Potter League for Animals\, 87 Oliphant Lane\, Middletown\, RI\, 02842\, United States
CATEGORIES:Events
ATTACH;FMTTYPE=image/png:https://potterleague.org/wp-content/uploads/2024/01/Kitten-Yoga-24-webevent.png
ORGANIZER;CN="Alisha Brzozowy":MAILTO:abrzozowy@potterleague.org
GEO:41.5375005;-71.2877314
X-APPLE-STRUCTURED-LOCATION;VALUE=URI;X-ADDRESS=Potter League for Animals 87 Oliphant Lane Middletown RI 02842 United States;X-APPLE-RADIUS=500;X-TITLE=87 Oliphant Lane:geo:-71.2877314,41.5375005
END:VEVENT
BEGIN:VEVENT
DTSTART;TZID=America/New_York:20240521T170000
DTEND;TZID=America/New_York:20240521T190000
DTSTAMP:20260423T133040
CREATED:20240508T221329Z
LAST-MODIFIED:20240513T190431Z
UID:220000421-1716310800-1716318000@potterleague.org
SUMMARY:Low Cost Vaccine Clinic
DESCRIPTION:Tuesday\, May 21\, 2024\n5:00 – 7:00 pm\n@ Sandy Wood Farms\n43 Muse Way\nTiverton\, RI 02878 \nThe Potter League is offering a low-cost vaccine clinic at Sandy Wood Farms located in Tiverton\, RI. \nDetails:  \nPre-registration (complete below) is recommended but not required.\nDogs must be leashed\, cats & ferrets must be in carriers.\nPets must be at least 12 weeks old. First Come\, first served.\nRabies\, DHPP\, FVRCP – $10\nMicrochips – $10 \nPlease note this is not a free clinic and payment (cash or card) will be collected during check-in. \nTo be eligible for a three (3) year vaccine\, owners must bring proof of non-expired prior vaccination. If you cannot provide proof\, they will only receive a one-year vaccine. \nQuestions? Please email community@potterleague.org or give us a call at 401-846-8276 ext. 118.
URL:https://potterleague.org/our-events/low-cost-vaccine-clinic-may2024/
LOCATION:Sandywood Farms\, 43 Muse Way\, Tiverton\, RI\, 02878\, United States
CATEGORIES:Events
ATTACH;FMTTYPE=image/png:https://potterleague.org/wp-content/uploads/2024/03/VaccineClinic-webevent.png
ORGANIZER;CN="Nick Pappas":MAILTO:npappas@potterleague.org
END:VEVENT
BEGIN:VEVENT
DTSTART;TZID=America/New_York:20240525T130000
DTEND;TZID=America/New_York:20240525T160000
DTSTAMP:20260423T133040
CREATED:20240417T234146Z
LAST-MODIFIED:20240419T151635Z
UID:220000418-1716642000-1716652800@potterleague.org
SUMMARY:Celebrate Captain's Birthday: Shop to Support Potter League at Helly Hansen Newport!
DESCRIPTION:Celebrate Captain’s Birthday: Shop to Support the Potter League for Animals at Helly Hansen Newport! \nDate: Saturday\, May 25\, 2024\nTime: 1:00 – 4:00 PM\nLocation: Helly Hansen Newport\nAddress: 54 Thames St\, Newport\, RI 02840 \nEvent Description: \nJoin us at Helly Hansen Newport as we celebrate Captain’s Birthday with an exciting event to support a great cause – us! A percentage of all sales during the event hours will be generously donated to the Potter League for Animals. \nSupport a Cause: By shopping at Helly Hansen during this event\, you’re not only treating yourself to top-notch outdoor gear but also supporting the Potter League for Animals\, a local organization dedicated to animal welfare. \nSpread the Word: Help spread the word about this special event by sharing this invitation with your friends\, family\, and fellow animal lovers. \nDon’t miss out on this opportunity to celebrate Captain’s Birthday while supporting a great cause. We look forward to seeing you there!
URL:https://potterleague.org/our-events/helly-hansen-newport-potter-league/
LOCATION:Helly Hansen Newport\, 54 Thames St\, Newport\, RI\, 02840\, United States
CATEGORIES:Events
ATTACH;FMTTYPE=image/png:https://potterleague.org/wp-content/uploads/2024/04/Helly-hansen-potterleague-webevent.png
ORGANIZER;CN="Connie Kile":MAILTO:ckile@potterleague.org
END:VEVENT
END:VCALENDAR