BEGIN:VCALENDAR
VERSION:2.0
PRODID:-//Potter League For Animals - ECPv6.15.20//NONSGML v1.0//EN
CALSCALE:GREGORIAN
METHOD:PUBLISH
X-WR-CALNAME:Potter League For Animals
X-ORIGINAL-URL:https://potterleague.org
X-WR-CALDESC:Events for Potter League For Animals
REFRESH-INTERVAL;VALUE=DURATION:PT1H
X-Robots-Tag:noindex
X-PUBLISHED-TTL:PT1H
BEGIN:VTIMEZONE
TZID:America/New_York
BEGIN:DAYLIGHT
TZOFFSETFROM:-0500
TZOFFSETTO:-0400
TZNAME:EDT
DTSTART:20230312T070000
END:DAYLIGHT
BEGIN:STANDARD
TZOFFSETFROM:-0400
TZOFFSETTO:-0500
TZNAME:EST
DTSTART:20231105T060000
END:STANDARD
BEGIN:DAYLIGHT
TZOFFSETFROM:-0500
TZOFFSETTO:-0400
TZNAME:EDT
DTSTART:20240310T070000
END:DAYLIGHT
BEGIN:STANDARD
TZOFFSETFROM:-0400
TZOFFSETTO:-0500
TZNAME:EST
DTSTART:20241103T060000
END:STANDARD
BEGIN:DAYLIGHT
TZOFFSETFROM:-0500
TZOFFSETTO:-0400
TZNAME:EDT
DTSTART:20250309T070000
END:DAYLIGHT
BEGIN:STANDARD
TZOFFSETFROM:-0400
TZOFFSETTO:-0500
TZNAME:EST
DTSTART:20251102T060000
END:STANDARD
END:VTIMEZONE
BEGIN:VEVENT
DTSTART;TZID=America/New_York:20241005T153000
DTEND;TZID=America/New_York:20241005T170000
DTSTAMP:20260424T230329
CREATED:20240819T153747Z
LAST-MODIFIED:20240930T170918Z
UID:220000566-1728142200-1728147600@potterleague.org
SUMMARY:Pet Loss Support Group
DESCRIPTION:Saturday\, October 5 from 3:30 – 5:00 pm \nGroup meets at the:\nPotter League Animal Care & Adoption Center\n87 Oliphant Lane Middletown\, RI\n2nd Floor \nThe Pet Loss Support Group meets monthly. This free program provides supportive help for those who have been touched by the loss of a pet\, anticipating the loss of a pet\, or dealing with the difficult decision of euthanasia. For more information or for immediate support\, please email petloss@potterleague.org or call 401-846-8276 ext. 122. \nThis is free and open for anyone to attend. \nPlease RSVP below by Friday\, October 4\, or by emailing petloss@potterleague.org or calling 401-846-8276 ext. 122.
URL:https://potterleague.org/our-events/pet-loss-support-group-oct24/
LOCATION:Potter League for Animals\, 87 Oliphant Lane\, Middletown\, RI\, 02842\, United States
CATEGORIES:Events
ATTACH;FMTTYPE=image/jpeg:https://potterleague.org/wp-content/uploads/2023/08/Pet-Loss-Support-Group-event-image.jpg
GEO:41.5375005;-71.2877314
X-APPLE-STRUCTURED-LOCATION;VALUE=URI;X-ADDRESS=Potter League for Animals 87 Oliphant Lane Middletown RI 02842 United States;X-APPLE-RADIUS=500;X-TITLE=87 Oliphant Lane:geo:-71.2877314,41.5375005
END:VEVENT
BEGIN:VEVENT
DTSTART;TZID=America/New_York:20241019T100000
DTEND;TZID=America/New_York:20241019T120000
DTSTAMP:20260424T230329
CREATED:20240917T163545Z
LAST-MODIFIED:20241007T202029Z
UID:220000572-1729332000-1729339200@potterleague.org
SUMMARY:Low Cost Vaccine Clinic
DESCRIPTION:Saturday\, October 19\, 2024\n10:00 am – 12:00 noon\n@ Pets In Need Veterinary Clinic\n50 Amaral Street\nRiverside\, RI 02915 \nThe Potter League is offering a low-cost vaccine clinic at our Pets In Need Veterinary Clinic located in Riverside\, RI. \nDetails:  \nPre-registration (complete below) is recommended but not required.\nDogs must be leashed\, cats & ferrets must be in carriers.\nPets must be at least 12 weeks old. First Come\, first served.\nRabies\, DHPP\, FVRCP – $10\nMicrochips – $10 \nPlease note this is not a free clinic and payment (cash or card) will be collected during check-in. \nTo be eligible for a three (3) year vaccine\, owners must bring proof of non-expired prior vaccination. If you cannot provide proof\, they will only receive a one-year vaccine. \nQuestions? Please email community@potterleague.org or give us a call at 401-846-8276 ext. 118.
URL:https://potterleague.org/our-events/low-cost-vaccine-clinic-oct24/
LOCATION:Pets In Need Veterinary Clinic\, 50 Amaral Street\, Riverside\, RI\, 02915\, United States
CATEGORIES:Events
ATTACH;FMTTYPE=image/png:https://potterleague.org/wp-content/uploads/2024/03/VaccineClinic-webevent.png
ORGANIZER;CN="Nick Pappas":MAILTO:npappas@potterleague.org
END:VEVENT
BEGIN:VEVENT
DTSTART;TZID=America/New_York:20241020T103000
DTEND;TZID=America/New_York:20241020T140000
DTSTAMP:20260424T230329
CREATED:20240808T235518Z
LAST-MODIFIED:20241219T020824Z
UID:220000563-1729420200-1729432800@potterleague.org
SUMMARY:Heart & Sole Walk for Animals
DESCRIPTION:Heart & Sole Walk for the Animals \nBe part of the excitement on Sunday\, October 20\, 2024\, when animal lovers from across Rhode Island walk to save lives. \nSave the date for the Potter League’s 35th annual Heart & Sole Walk for Animals at Fort Adams State Park in Newport\, RI. Enjoy a fun-filled dog walk\, music\, a sponsor & vendor marketplace\, food trucks\, special activities for dogs and kids\, featured entertainment\, and a festive atmosphere celebrating the special bond between animals and people. \nThe Heart & Sole Walk for Animals is a beloved tradition\, and in addition to raising essential funds to support our lifesaving work\, it’s an opportunity for animal lovers to join together in creating a more humane Rhode Island for people and pets alike. \nHelp Animals in Need\nThe Heart & Sole Walk for Animals is our biggest fundraiser of the year\, with proceeds helping to save the lives of thousands of animals in our community with programs such as foster care\, spay/neuter\, adoptions\, animal rescue\, affordable veterinary care\, and more. In addition to the Heart & Sole Walk\, you and your pup can stroll through our Flea-less Marketplace\, enjoy tasty food truck treats and take part in our awesome contests! \nEarn Prizes\nRaise funds for the animals while earning awesome prizes and compete to be the Top Fundraiser or Top Fundraising Team! All registered walkers who raise $50 will receive a t-shirt and a selection of prizes based on your fundraising total. \nThe Potter League’s Heart & Sole Walk for the Animals is celebrating you\, the animals you love\, and everything that makes Rhode Island a haven for pet lovers. Funds raised by walkers are used to find homes for pets\, heal injured pets\, and provide much-needed services to those who love them. \nRegister Now! \n\nSponsors & Vendors \nInterested in becoming a sponsor or vendor? \nSponsor Opportunities \nVendor Opportunities \nFor information about sponsorship or vendor opportunities\, please get in touch with our Director of Events & Corporate Relations\, Connie Kile at 401.846.0592 ext. 125 or ckile@potterleague.org. \nCorporate Teams \nLooking for a way to get your employees engaged with some outdoor fun? Email ckile@potterleague.org to learn more about creating a corporate team.
URL:https://potterleague.org/our-events/heart-sole-walk-for-animals-2024/
LOCATION:Fort Adams State Park\, 80 Fort Adams Dr\, Newport\, RI\, 02840\, United States
CATEGORIES:Events
ATTACH;FMTTYPE=image/jpeg:https://potterleague.org/wp-content/uploads/2024/08/Walk-web-2024.jpg
ORGANIZER;CN="Connie Kile":MAILTO:ckile@potterleague.org
END:VEVENT
END:VCALENDAR