BEGIN:VCALENDAR
VERSION:2.0
PRODID:-//Potter League For Animals - ECPv6.15.20//NONSGML v1.0//EN
CALSCALE:GREGORIAN
METHOD:PUBLISH
X-WR-CALNAME:Potter League For Animals
X-ORIGINAL-URL:https://potterleague.org
X-WR-CALDESC:Events for Potter League For Animals
REFRESH-INTERVAL;VALUE=DURATION:PT1H
X-Robots-Tag:noindex
X-PUBLISHED-TTL:PT1H
BEGIN:VTIMEZONE
TZID:America/New_York
BEGIN:DAYLIGHT
TZOFFSETFROM:-0500
TZOFFSETTO:-0400
TZNAME:EDT
DTSTART:20230312T070000
END:DAYLIGHT
BEGIN:STANDARD
TZOFFSETFROM:-0400
TZOFFSETTO:-0500
TZNAME:EST
DTSTART:20231105T060000
END:STANDARD
BEGIN:DAYLIGHT
TZOFFSETFROM:-0500
TZOFFSETTO:-0400
TZNAME:EDT
DTSTART:20240310T070000
END:DAYLIGHT
BEGIN:STANDARD
TZOFFSETFROM:-0400
TZOFFSETTO:-0500
TZNAME:EST
DTSTART:20241103T060000
END:STANDARD
BEGIN:DAYLIGHT
TZOFFSETFROM:-0500
TZOFFSETTO:-0400
TZNAME:EDT
DTSTART:20250309T070000
END:DAYLIGHT
BEGIN:STANDARD
TZOFFSETFROM:-0400
TZOFFSETTO:-0500
TZNAME:EST
DTSTART:20251102T060000
END:STANDARD
END:VTIMEZONE
BEGIN:VEVENT
DTSTART;TZID=America/New_York:20240417T120000
DTEND;TZID=America/New_York:20240417T160000
DTSTAMP:20260423T163205
CREATED:20240417T223521Z
LAST-MODIFIED:20240417T223522Z
UID:220000535-1713355200-1713369600@potterleague.org
SUMMARY:Celebrate 4/20 at Solar Cannabis
DESCRIPTION:Join us at Solar Cannabis in Warwick\, RI\, on April 20th\, as we celebrate the beloved tradition of 4/20! Whether you’re a seasoned cannabis connoisseur or new to the scene\, this event is the perfect opportunity to come together with fellow enthusiasts and celebrate the plant we love. \nWe\, the Potter League for Animals\, will be tabling at the event\, so be sure to stop by our community table and join in on the festivities. Don’t miss out on the excitement – see you on April 20th at Solar Cannabis!
URL:https://potterleague.org/our-events/celebrate-4-20-at-solar-cannabis/
LOCATION:65 Meadow St. Warwick\, RI 02886\, 65 Meadow St\, Warwick\, RI\, 02886\, United States
CATEGORIES:Events
ATTACH;FMTTYPE=image/png:https://potterleague.org/wp-content/uploads/2024/04/420-solar-potterleague.png
ORGANIZER;CN="Connie Kile":MAILTO:ckile@potterleague.org
END:VEVENT
END:VCALENDAR