BEGIN:VCALENDAR
VERSION:2.0
PRODID:-//Potter League For Animals - ECPv6.15.20//NONSGML v1.0//EN
CALSCALE:GREGORIAN
METHOD:PUBLISH
X-WR-CALNAME:Potter League For Animals
X-ORIGINAL-URL:https://potterleague.org
X-WR-CALDESC:Events for Potter League For Animals
REFRESH-INTERVAL;VALUE=DURATION:PT1H
X-Robots-Tag:noindex
X-PUBLISHED-TTL:PT1H
BEGIN:VTIMEZONE
TZID:America/New_York
BEGIN:DAYLIGHT
TZOFFSETFROM:-0500
TZOFFSETTO:-0400
TZNAME:EDT
DTSTART:20230312T070000
END:DAYLIGHT
BEGIN:STANDARD
TZOFFSETFROM:-0400
TZOFFSETTO:-0500
TZNAME:EST
DTSTART:20231105T060000
END:STANDARD
BEGIN:DAYLIGHT
TZOFFSETFROM:-0500
TZOFFSETTO:-0400
TZNAME:EDT
DTSTART:20240310T070000
END:DAYLIGHT
BEGIN:STANDARD
TZOFFSETFROM:-0400
TZOFFSETTO:-0500
TZNAME:EST
DTSTART:20241103T060000
END:STANDARD
BEGIN:DAYLIGHT
TZOFFSETFROM:-0500
TZOFFSETTO:-0400
TZNAME:EDT
DTSTART:20250309T070000
END:DAYLIGHT
BEGIN:STANDARD
TZOFFSETFROM:-0400
TZOFFSETTO:-0500
TZNAME:EST
DTSTART:20251102T060000
END:STANDARD
END:VTIMEZONE
BEGIN:VEVENT
DTSTART;TZID=America/New_York:20240723T170000
DTEND;TZID=America/New_York:20240723T180000
DTSTAMP:20260422T070511
CREATED:20240715T234452Z
LAST-MODIFIED:20240723T210005Z
UID:220000558-1721754000-1721757600@potterleague.org
SUMMARY:Puppy Yoga
DESCRIPTION:Due to technical difficulties\, this event has been postponed. The new date is TBD.\n\nDate: Tuesday\, June 23\, 2024\nTime: 5:00 -6:00 PM\nLevel: All levels – gentle yoga for humans\nCost: $25\nWhere: @ the Potter League Animal Care & Adoption Center\n87 Oliphant Lane Middletown\, RI 02842 \nGet ready to downward dog like never before! Say goodbye to boring yoga classes and hello to the ultimate zen experience: Puppy Yoga! Picture this: you’re in your favorite yoga pose\, and suddenly\, a fluffy ball of energy paws its way onto your mat. That’s right\, puppies will be joining your practice\, bringing their adorable antics and unlimited cuteness to the mat. Prepare for some unexpected sniffs (yours or theirs)\, impromptu play sessions\, and maybe even a sprinkle of puppy love. It’s the perfect blend of relaxation and puppy cuddles. So grab your mat\, leave your stress at the door\, and let the puppy yoga magic begin! \nSpace is limited. Tickets are Non-Refundable. A maximum of two children ages 10+ per accompanying adult is preferred.
URL:https://potterleague.org/our-events/puppy-yoga-july2024/
LOCATION:Potter League for Animals\, 87 Oliphant Lane\, Middletown\, RI\, 02842\, United States
CATEGORIES:Events
ATTACH;FMTTYPE=image/png:https://potterleague.org/wp-content/uploads/2024/05/PuppyYoga-jun24-webevent.png
ORGANIZER;CN="Alisha Brzozowy":MAILTO:abrzozowy@potterleague.org
GEO:41.5375005;-71.2877314
X-APPLE-STRUCTURED-LOCATION;VALUE=URI;X-ADDRESS=Potter League for Animals 87 Oliphant Lane Middletown RI 02842 United States;X-APPLE-RADIUS=500;X-TITLE=87 Oliphant Lane:geo:-71.2877314,41.5375005
END:VEVENT
END:VCALENDAR