BEGIN:VCALENDAR
VERSION:2.0
PRODID:-//Potter League For Animals - ECPv6.15.20//NONSGML v1.0//EN
CALSCALE:GREGORIAN
METHOD:PUBLISH
X-ORIGINAL-URL:https://potterleague.org
X-WR-CALDESC:Events for Potter League For Animals
REFRESH-INTERVAL;VALUE=DURATION:PT1H
X-Robots-Tag:noindex
X-PUBLISHED-TTL:PT1H
BEGIN:VTIMEZONE
TZID:America/New_York
BEGIN:DAYLIGHT
TZOFFSETFROM:-0500
TZOFFSETTO:-0400
TZNAME:EDT
DTSTART:20230312T070000
END:DAYLIGHT
BEGIN:STANDARD
TZOFFSETFROM:-0400
TZOFFSETTO:-0500
TZNAME:EST
DTSTART:20231105T060000
END:STANDARD
BEGIN:DAYLIGHT
TZOFFSETFROM:-0500
TZOFFSETTO:-0400
TZNAME:EDT
DTSTART:20240310T070000
END:DAYLIGHT
BEGIN:STANDARD
TZOFFSETFROM:-0400
TZOFFSETTO:-0500
TZNAME:EST
DTSTART:20241103T060000
END:STANDARD
BEGIN:DAYLIGHT
TZOFFSETFROM:-0500
TZOFFSETTO:-0400
TZNAME:EDT
DTSTART:20250309T070000
END:DAYLIGHT
BEGIN:STANDARD
TZOFFSETFROM:-0400
TZOFFSETTO:-0500
TZNAME:EST
DTSTART:20251102T060000
END:STANDARD
END:VTIMEZONE
BEGIN:VEVENT
DTSTART;TZID=America/New_York:20240730T170000
DTEND;TZID=America/New_York:20240730T190000
DTSTAMP:20260422T071531
CREATED:20240724T153141Z
LAST-MODIFIED:20240724T153142Z
UID:220000562-1722358800-1722366000@potterleague.org
SUMMARY:Low Cost Vaccine Clinic
DESCRIPTION:Tuesday\, July 30\, 2024\n5:00 – 7:00 pm\n@ Park Holm Community Center\n1 Eisenhower Road\nNewport\, RI 02840 \nThe Potter League is offering a low-cost vaccine clinic at Park Holm Community Center located in Newport\, RI. \nDetails:  \nPre-registration (complete below) is recommended but not required.\nDogs must be leashed\, cats & ferrets must be in carriers.\nPets must be at least 12 weeks old. First Come\, first served.\nRabies\, DHPP\, FVRCP – $5\nMicrochips – $5 \nPlease note this is not a free clinic and payment (cash or card) will be collected during check-in. \nTo be eligible for a three (3) year vaccine\, owners must bring proof of non-expired prior vaccination. If you cannot provide proof\, they will only receive a one-year vaccine. \nQuestions? Please email community@potterleague.org or give us a call at 401-846-8276 ext. 118.
URL:https://potterleague.org/our-events/low-cost-vaccine-clinic-july24/
LOCATION:Park Holm Community Center\, 1 Eisenhower Road\, Newport\, RI\, 02840\, United States
CATEGORIES:Events
ATTACH;FMTTYPE=image/png:https://potterleague.org/wp-content/uploads/2024/03/VaccineClinic-webevent.png
ORGANIZER;CN="Nick Pappas":MAILTO:npappas@potterleague.org
END:VEVENT
END:VCALENDAR