BEGIN:VCALENDAR
VERSION:2.0
PRODID:-//Potter League For Animals - ECPv6.15.20//NONSGML v1.0//EN
CALSCALE:GREGORIAN
METHOD:PUBLISH
X-WR-CALNAME:Potter League For Animals
X-ORIGINAL-URL:https://potterleague.org
X-WR-CALDESC:Events for Potter League For Animals
REFRESH-INTERVAL;VALUE=DURATION:PT1H
X-Robots-Tag:noindex
X-PUBLISHED-TTL:PT1H
BEGIN:VTIMEZONE
TZID:America/New_York
BEGIN:DAYLIGHT
TZOFFSETFROM:-0500
TZOFFSETTO:-0400
TZNAME:EDT
DTSTART:20230312T070000
END:DAYLIGHT
BEGIN:STANDARD
TZOFFSETFROM:-0400
TZOFFSETTO:-0500
TZNAME:EST
DTSTART:20231105T060000
END:STANDARD
BEGIN:DAYLIGHT
TZOFFSETFROM:-0500
TZOFFSETTO:-0400
TZNAME:EDT
DTSTART:20240310T070000
END:DAYLIGHT
BEGIN:STANDARD
TZOFFSETFROM:-0400
TZOFFSETTO:-0500
TZNAME:EST
DTSTART:20241103T060000
END:STANDARD
BEGIN:DAYLIGHT
TZOFFSETFROM:-0500
TZOFFSETTO:-0400
TZNAME:EDT
DTSTART:20250309T070000
END:DAYLIGHT
BEGIN:STANDARD
TZOFFSETFROM:-0400
TZOFFSETTO:-0500
TZNAME:EST
DTSTART:20251102T060000
END:STANDARD
END:VTIMEZONE
BEGIN:VEVENT
DTSTART;TZID=America/New_York:20240901T090000
DTEND;TZID=America/New_York:20240901T120000
DTSTAMP:20260424T210123
CREATED:20240828T134012Z
LAST-MODIFIED:20240828T134521Z
UID:220000568-1725181200-1725192000@potterleague.org
SUMMARY:Bark Ranger\, Purr Ranger Community Event
DESCRIPTION:Join us for a tail-wagging time at the Great Friends Meeting House! 🐾 \n\n\nOn Sunday\, September 1 from 9 am – 12 noon\, animal lovers and pet owners are invited to Newport for a free Bark Ranger\, Purrk Ranger community event on the lawn of the Great Friends Meeting House. All animals are invited to have a professional photograph taken at no cost by local photographer Jessica Pohl. \nThis event is hosted by the Newport Historical Society and the Potter League for Animals\, with free programming provided by the National Park Service (NPS) Washington-Rochambeau Revolutionary Route National Historic Trail. After animals are “sworn in” as honorary rangers by the NPS for adhering to key values like picking up pet waste\, keeping pets leashed\, and respecting wildlife\, they will receive a free collar charm and bandana while supplies last. \nPet owners who attend the event alone can still receive the charm and bandana if they sign the pledge and show a photo of their pet. \n\n\nEnjoy professional pup pictures\, an honorary Bark Ranger badge\, and more on September 1st from 9am to 12pm on the Great Friends Meeting House Lawn.
URL:https://potterleague.org/our-events/bark-ranger-nps-nhs-event/
LOCATION:Great Freinds Meeting House\, 21 Farewell St\, Newport\, RI\, 02840\, United States
CATEGORIES:Events
ATTACH;FMTTYPE=image/png:https://potterleague.org/wp-content/uploads/2024/08/BarkRangers.png
END:VEVENT
END:VCALENDAR