BEGIN:VCALENDAR
VERSION:2.0
PRODID:-//Potter League For Animals - ECPv6.15.20//NONSGML v1.0//EN
CALSCALE:GREGORIAN
METHOD:PUBLISH
X-ORIGINAL-URL:https://potterleague.org
X-WR-CALDESC:Events for Potter League For Animals
REFRESH-INTERVAL;VALUE=DURATION:PT1H
X-Robots-Tag:noindex
X-PUBLISHED-TTL:PT1H
BEGIN:VTIMEZONE
TZID:America/New_York
BEGIN:DAYLIGHT
TZOFFSETFROM:-0500
TZOFFSETTO:-0400
TZNAME:EDT
DTSTART:20230312T070000
END:DAYLIGHT
BEGIN:STANDARD
TZOFFSETFROM:-0400
TZOFFSETTO:-0500
TZNAME:EST
DTSTART:20231105T060000
END:STANDARD
BEGIN:DAYLIGHT
TZOFFSETFROM:-0500
TZOFFSETTO:-0400
TZNAME:EDT
DTSTART:20240310T070000
END:DAYLIGHT
BEGIN:STANDARD
TZOFFSETFROM:-0400
TZOFFSETTO:-0500
TZNAME:EST
DTSTART:20241103T060000
END:STANDARD
BEGIN:DAYLIGHT
TZOFFSETFROM:-0500
TZOFFSETTO:-0400
TZNAME:EDT
DTSTART:20250309T070000
END:DAYLIGHT
BEGIN:STANDARD
TZOFFSETFROM:-0400
TZOFFSETTO:-0500
TZNAME:EST
DTSTART:20251102T060000
END:STANDARD
END:VTIMEZONE
BEGIN:VEVENT
DTSTART;TZID=America/New_York:20240924T170000
DTEND;TZID=America/New_York:20240924T180000
DTSTAMP:20260424T225531
CREATED:20240918T191631Z
LAST-MODIFIED:20240918T191631Z
UID:220000573-1727197200-1727200800@potterleague.org
SUMMARY:Kitten Yoga
DESCRIPTION:Date: Tuesday\, September 24\, 2024\nTime: 5:00 -6:00 PM\nLevel: All levels – gentle yoga for humans\nCost: $25\nWhere: @ the Potter League Animal Care & Adoption Center\n87 Oliphant Lane Middletown\, RI 02842 \nMeowmaste! For cat lovers and exercise enthusiasts\, yoga classes filled with feline friends sounds like the perfect match. Taught by our very own Kim Cipolla\, dog trainer\, and certified yoga instructor\, these classes are a “win-win” because kittens and yoga bring therapeutic benefits to many people\, and we hope these feline friends will find new homes. \nPlease bring your mat\, not your cat. We will provide the kitties. \nSpace is limited. Tickets are Non-Refundable. A maximum of two children ages 10+ per accompanying adult is preferred.
URL:https://potterleague.org/our-events/kitten-yoga-sept24/
LOCATION:Potter League for Animals\, 87 Oliphant Lane\, Middletown\, RI\, 02842\, United States
CATEGORIES:Events
ATTACH;FMTTYPE=image/png:https://potterleague.org/wp-content/uploads/2024/01/Kitten-Yoga-24-webevent.png
ORGANIZER;CN="Alisha Brzozowy":MAILTO:abrzozowy@potterleague.org
GEO:41.5375005;-71.2877314
X-APPLE-STRUCTURED-LOCATION;VALUE=URI;X-ADDRESS=Potter League for Animals 87 Oliphant Lane Middletown RI 02842 United States;X-APPLE-RADIUS=500;X-TITLE=87 Oliphant Lane:geo:-71.2877314,41.5375005
END:VEVENT
BEGIN:VEVENT
DTSTART;TZID=America/New_York:20240924T170000
DTEND;TZID=America/New_York:20240924T190000
DTSTAMP:20260424T225531
CREATED:20240819T160324Z
LAST-MODIFIED:20240909T184607Z
UID:220000567-1727197200-1727204400@potterleague.org
SUMMARY:Low Cost Vaccine Clinic
DESCRIPTION:Tuesday\, September 24\, 2024\n5:00 – 7:00 pm\n@ Florence Gray Center\n1 York Street\nNewport\, RI 02840 \nThe Potter League in partnership with the Newport Health Equity Zone is offering a low-cost vaccine clinic at Florence Gray Center located in Newport\, RI. \nDetails:  \nPre-registration (complete below) is recommended but not required.\nDogs must be leashed\, cats & ferrets must be in carriers.\nPets must be at least 12 weeks old. First Come\, first served.\nRabies\, DHPP\, FVRCP – $10\nMicrochips – $10 \nPlease note this is not a free clinic and payment (cash or card) will be collected during check-in. \nTo be eligible for a three (3) year vaccine\, owners must bring proof of non-expired prior vaccination. If you cannot provide proof\, they will only receive a one-year vaccine. \nQuestions? Please email community@potterleague.org or give us a call at 401-846-8276 ext. 118.
URL:https://potterleague.org/our-events/low-cost-vaccine-clinic-sept24/
LOCATION:Florence Gray Center\, 1 York Street\, Newport\, RI\, 02840\, United States
CATEGORIES:Events
ATTACH;FMTTYPE=image/png:https://potterleague.org/wp-content/uploads/2024/03/VaccineClinic-webevent.png
ORGANIZER;CN="Nick Pappas":MAILTO:npappas@potterleague.org
END:VEVENT
END:VCALENDAR