BEGIN:VCALENDAR
VERSION:2.0
PRODID:-//Potter League For Animals - ECPv6.15.20//NONSGML v1.0//EN
CALSCALE:GREGORIAN
METHOD:PUBLISH
X-WR-CALNAME:Potter League For Animals
X-ORIGINAL-URL:https://potterleague.org
X-WR-CALDESC:Events for Potter League For Animals
REFRESH-INTERVAL;VALUE=DURATION:PT1H
X-Robots-Tag:noindex
X-PUBLISHED-TTL:PT1H
BEGIN:VTIMEZONE
TZID:America/New_York
BEGIN:DAYLIGHT
TZOFFSETFROM:-0500
TZOFFSETTO:-0400
TZNAME:EDT
DTSTART:20240310T070000
END:DAYLIGHT
BEGIN:STANDARD
TZOFFSETFROM:-0400
TZOFFSETTO:-0500
TZNAME:EST
DTSTART:20241103T060000
END:STANDARD
BEGIN:DAYLIGHT
TZOFFSETFROM:-0500
TZOFFSETTO:-0400
TZNAME:EDT
DTSTART:20250309T070000
END:DAYLIGHT
BEGIN:STANDARD
TZOFFSETFROM:-0400
TZOFFSETTO:-0500
TZNAME:EST
DTSTART:20251102T060000
END:STANDARD
BEGIN:DAYLIGHT
TZOFFSETFROM:-0500
TZOFFSETTO:-0400
TZNAME:EDT
DTSTART:20260308T070000
END:DAYLIGHT
BEGIN:STANDARD
TZOFFSETFROM:-0400
TZOFFSETTO:-0500
TZNAME:EST
DTSTART:20261101T060000
END:STANDARD
END:VTIMEZONE
BEGIN:VEVENT
DTSTART;TZID=America/New_York:20250313T180000
DTEND;TZID=America/New_York:20250313T203000
DTSTAMP:20260423T192047
CREATED:20250305T210634Z
LAST-MODIFIED:20250305T210634Z
UID:220000600-1741888800-1741897800@potterleague.org
SUMMARY:Potter League at BEVY 2025
DESCRIPTION:Date: Thursday\, March 13\, 2025Time:6:00 – 8:30 PMLocation: Rhodes on The Pawtuxet\n60 Rhodes Place\, Cranston\, RI\n \nGet ready to sip\, sample\, and savor at BEVY 2025. This tasting festival brings together local and national brands showcasing a variety of spirits and non-alcoholic beverages. Enjoy a Mixology Workshop Class\, a local makers market\, and more. \n\nTastings from top brands\nCocktail and mocktail workshops\nSip and shop with local vendors\nFun swag at the Potter League booth\n\nGet your tickets now: Click here \nDon’t miss out on a great evening of tastings\, learning\, and community.
URL:https://potterleague.org/our-events/potter-league-at-bevy-2025/
LOCATION:RI
CATEGORIES:Events
ATTACH;FMTTYPE=image/png:https://potterleague.org/wp-content/uploads/2025/03/BEVY-2025-PLFA.png
END:VEVENT
END:VCALENDAR