BEGIN:VCALENDAR
VERSION:2.0
PRODID:-//Potter League For Animals - ECPv6.15.20//NONSGML v1.0//EN
CALSCALE:GREGORIAN
METHOD:PUBLISH
X-WR-CALNAME:Potter League For Animals
X-ORIGINAL-URL:https://potterleague.org
X-WR-CALDESC:Events for Potter League For Animals
REFRESH-INTERVAL;VALUE=DURATION:PT1H
X-Robots-Tag:noindex
X-PUBLISHED-TTL:PT1H
BEGIN:VTIMEZONE
TZID:America/New_York
BEGIN:DAYLIGHT
TZOFFSETFROM:-0500
TZOFFSETTO:-0400
TZNAME:EDT
DTSTART:20240310T070000
END:DAYLIGHT
BEGIN:STANDARD
TZOFFSETFROM:-0400
TZOFFSETTO:-0500
TZNAME:EST
DTSTART:20241103T060000
END:STANDARD
BEGIN:DAYLIGHT
TZOFFSETFROM:-0500
TZOFFSETTO:-0400
TZNAME:EDT
DTSTART:20250309T070000
END:DAYLIGHT
BEGIN:STANDARD
TZOFFSETFROM:-0400
TZOFFSETTO:-0500
TZNAME:EST
DTSTART:20251102T060000
END:STANDARD
BEGIN:DAYLIGHT
TZOFFSETFROM:-0500
TZOFFSETTO:-0400
TZNAME:EDT
DTSTART:20260308T070000
END:DAYLIGHT
BEGIN:STANDARD
TZOFFSETFROM:-0400
TZOFFSETTO:-0500
TZNAME:EST
DTSTART:20261101T060000
END:STANDARD
BEGIN:DAYLIGHT
TZOFFSETFROM:-0500
TZOFFSETTO:-0400
TZNAME:EDT
DTSTART:20270314T070000
END:DAYLIGHT
BEGIN:STANDARD
TZOFFSETFROM:-0400
TZOFFSETTO:-0500
TZNAME:EST
DTSTART:20271107T060000
END:STANDARD
BEGIN:DAYLIGHT
TZOFFSETFROM:-0500
TZOFFSETTO:-0400
TZNAME:EDT
DTSTART:20280312T070000
END:DAYLIGHT
BEGIN:STANDARD
TZOFFSETFROM:-0400
TZOFFSETTO:-0500
TZNAME:EST
DTSTART:20281105T060000
END:STANDARD
END:VTIMEZONE
BEGIN:VEVENT
DTSTART;VALUE=DATE:20251031
DTEND;VALUE=DATE:20270201
DTSTAMP:20260419T140540
CREATED:20201105T220836Z
LAST-MODIFIED:20260114T224703Z
UID:220000463-1761868800-1801439999@potterleague.org
SUMMARY:Order your 2026 Potter League Calendar
DESCRIPTION:Order your 2026 Potter League for Animals Calendar today! \nProceeds from the sale of the calendar and photo contest assist the Potter League for Animals with helping thousands of animals each year in Rhode Island and beyond. Funds raised provide medical care to sick or injured animals\, low-cost vaccinations and spay/neuter services\, behavior training\, humane education programs\, and so much more! \nThis year’s calendar was photographed by Ashley Timms Photography and Photography by Jessica Pohl\, and sponsored by Beau Tyler\, Rumford Pet\, and Memorial Funeral Home\, featuring 12 months of our winners of the annual P.S. I Love You Photo Contest. \nDETAILS\nProduct: 9 x 9 Wall Calendar\nStart Date: JANUARY 2026 \nOrder yours today!
URL:https://potterleague.org/our-events/2026-potter-league-calendars-for-sale/
LOCATION:MA
CATEGORIES:Events
ATTACH;FMTTYPE=image/png:https://potterleague.org/wp-content/uploads/2020/11/2026-Calendar-Gift-webevent.png
END:VEVENT
BEGIN:VEVENT
DTSTART;TZID=America/New_York:20260128T180000
DTEND;TZID=America/New_York:20260128T193000
DTSTAMP:20260419T140540
CREATED:20251104T000814Z
LAST-MODIFIED:20260127T231621Z
UID:220000710-1769623200-1769628600@potterleague.org
SUMMARY:Annual Meeting
DESCRIPTION:Join us for the Annual Meeting of the Potter League for Animals\nWednesday\, January 28\, 2026 | 6:00 – 8:00 pm\nThe Newport Harbor Hotel and Marina\n49 America’s Cup Ave\, Newport\, RI 02840 \nJoin us for an engaging evening as we reflect on the Potter League’s achievements and look ahead to the future of animal welfare in 2026. \nThis year’s meeting will feature a presentation by Hanna Lentz\, Executive Director of SPARC (Supporting People and Animal Relationships for Change). Her talk\, “Narratives to Inspire Our Best Work for Animals and People\, Together\,” explores how stories can strengthen the connections between human and animal well-being and inspire more compassionate communities. \nHanna has spent two decades advancing animal care and welfare across organizations including the Washington Humane Society\, MSPCA–Methuen\, and Farm Sanctuary. She has also led global programs with the International Fund for Animal Welfare and co-founded Impact by Design\, a consulting firm helping animal welfare and conservation organizations maximize their impact. \nThis event is free and open to the public. Light refreshments will be served.Walk-ins are warmly welcomed\, and RSVPs are appreciated to help us plan for seating. \nWe look forward to gathering with you for an evening of reflection\, connection\, and inspiration as we continue our shared mission of enriching lives and strengthening the bond between people and animals.
URL:https://potterleague.org/our-events/annual-meeting-2026/
LOCATION:The Newport Harbor Hotel and Marina\, 49 America's Cup Ave\, Newport\, 02840\, United States
CATEGORIES:Events
ATTACH;FMTTYPE=image/jpeg:https://potterleague.org/wp-content/uploads/2025/11/2025_AnnualMtg_WebHeader.jpg
ORGANIZER;CN="Kyle Tarbell":MAILTO:ktarbell@potterleague.org
END:VEVENT
END:VCALENDAR