BEGIN:VCALENDAR
VERSION:2.0
PRODID:-//Potter League For Animals - ECPv6.15.20//NONSGML v1.0//EN
CALSCALE:GREGORIAN
METHOD:PUBLISH
X-ORIGINAL-URL:https://potterleague.org
X-WR-CALDESC:Events for Potter League For Animals
REFRESH-INTERVAL;VALUE=DURATION:PT1H
X-Robots-Tag:noindex
X-PUBLISHED-TTL:PT1H
BEGIN:VTIMEZONE
TZID:America/New_York
BEGIN:DAYLIGHT
TZOFFSETFROM:-0500
TZOFFSETTO:-0400
TZNAME:EDT
DTSTART:20210314T070000
END:DAYLIGHT
BEGIN:STANDARD
TZOFFSETFROM:-0400
TZOFFSETTO:-0500
TZNAME:EST
DTSTART:20211107T060000
END:STANDARD
BEGIN:DAYLIGHT
TZOFFSETFROM:-0500
TZOFFSETTO:-0400
TZNAME:EDT
DTSTART:20220313T070000
END:DAYLIGHT
BEGIN:STANDARD
TZOFFSETFROM:-0400
TZOFFSETTO:-0500
TZNAME:EST
DTSTART:20221106T060000
END:STANDARD
BEGIN:DAYLIGHT
TZOFFSETFROM:-0500
TZOFFSETTO:-0400
TZNAME:EDT
DTSTART:20230312T070000
END:DAYLIGHT
BEGIN:STANDARD
TZOFFSETFROM:-0400
TZOFFSETTO:-0500
TZNAME:EST
DTSTART:20231105T060000
END:STANDARD
END:VTIMEZONE
BEGIN:VEVENT
DTSTART;TZID=America/New_York:20221213T130000
DTEND;TZID=America/New_York:20221213T160000
DTSTAMP:20260421T213437
CREATED:20221201T200650Z
LAST-MODIFIED:20221201T201609Z
UID:220000495-1670936400-1670947200@potterleague.org
SUMMARY:Free Pet Vaccine Clinic
DESCRIPTION:Tuesday\, December 13\nfrom 1:00 – 4:00 pm\nat Crossroads Rhode Island\n160 Broad St\, Providence\, RI 02903 \nFree Vaccines. Free Microchipping. \nThe Potter League for Animals is offering a free vaccine clinic at Crossroads Rhode Island on December 13 from 1 until 4 pm. To many people in Rhode Island and neighboring states\, the cost of quality veterinary care for their beloved pets is out of reach. Despite the efforts of many\, pet owners are often left with nowhere to turn when their pets are in need of care. We believe that everyone deserves companionship and are here to help these pet owners. Our clinic will offer free vaccinations and free microchipping. \nDetails:  \nNo appointments or registration is required.\nDogs must be leashed\, cats & ferrets must be in carriers.\nPets must be at least 12 weeks old.\nTo be eligible for a three (3) year vaccine\, owners must bring proof of non-expired prior vaccination. If you cannot provide proof\, they will only receive a one-year vaccine.
URL:https://potterleague.org/our-events/free-pet-vaccine-clinic/
LOCATION:Crossroads Rhode Island\, 160 Broad St\, Providence\, RI\, 02903\, United States
CATEGORIES:Events
ATTACH;FMTTYPE=image/jpeg:https://potterleague.org/wp-content/uploads/2018/10/Vaccine-Clinics-web.jpg
ORGANIZER;CN="Stephanie Alger":MAILTO:salger@potterleague.org
END:VEVENT
END:VCALENDAR